BEGIN:VCALENDAR
VERSION:2.0
PRODID:-//Squarespace Inc/Squarespace 6//v6//EN
BEGIN:VEVENT
UID:606adb87fce96f7640b57ebc@squarespace.com
DTSTAMP:20210405T094624Z
DTSTART:20210406T120000Z
DTEND:20210406T140000Z
SUMMARY:YP2LE Learning Network Webinar
END:VEVENT
END:VCALENDAR
