BEGIN:VCALENDAR
VERSION:2.0
PRODID:-//Squarespace Inc/Squarespace 6//v6//EN
BEGIN:VEVENT
UID:610c3f0f2c3b736116deb270@squarespace.com
DTSTAMP:20210806T140447Z
DTSTART:20210812T123000Z
DTEND:20210813T150000Z
SUMMARY:#YouthLead Innovation Festival
END:VEVENT
END:VCALENDAR
