BEGIN:VCALENDAR
VERSION:2.0
PRODID:-//Squarespace Inc/Squarespace 6//v6//EN
BEGIN:VEVENT
UID:602a26bd3864731411d4baf0@squarespace.com
DTSTAMP:20210215T075101Z
DTSTART:20210226T150000Z
DTEND:20210226T161500Z
SUMMARY:#Youth4ClimateLive Series - Driving Local Action
END:VEVENT
END:VCALENDAR
