BEGIN:VCALENDAR
VERSION:2.0
PRODID:-//Squarespace Inc/Squarespace 6//v6//EN
BEGIN:VEVENT
UID:600abe9d6c6bdf128ddffa48@squarespace.com
DTSTAMP:20210122T120653Z
DTSTART:20210209T140000Z
DTEND:20210211T163000Z
SUMMARY:Youth Summit
END:VEVENT
END:VCALENDAR
