BEGIN:VCALENDAR
VERSION:2.0
PRODID:-//Squarespace Inc/Squarespace 6//v6//EN
BEGIN:VEVENT
UID:62423aadefc5bd705d48ce60@squarespace.com
DTSTAMP:20220328T233443Z
DTSTART:20220330T130000Z
DTEND:20220330T140000Z
SUMMARY:Youth Power In A Pandemic Report Launch
END:VEVENT
END:VCALENDAR
