BEGIN:VCALENDAR
VERSION:2.0
PRODID:-//Squarespace Inc/Squarespace 6//v6//EN
BEGIN:VEVENT
UID:60e2e11a14f8995804f92d0d@squarespace.com
DTSTAMP:20210705T104703Z
DTSTART:20210707T170000Z
DTEND:20210707T181000Z
SUMMARY:Youth-led Talkshow on Climate
END:VEVENT
END:VCALENDAR
