BEGIN:VCALENDAR
VERSION:2.0
PRODID:-//Squarespace Inc/Squarespace 6//v6//EN
BEGIN:VEVENT
UID:615b52c089abb00a039dfeb0@squarespace.com
DTSTAMP:20211004T192352Z
DTSTART:20211005T150000Z
DTEND:20211005T160000Z
SUMMARY:Youth Involvement in Environment and Climate Action in the MENA
END:VEVENT
END:VCALENDAR
