BEGIN:VCALENDAR
VERSION:2.0
PRODID:-//Squarespace Inc/Squarespace 6//v6//EN
BEGIN:VEVENT
UID:60b4be6d4bacab46d075ad71@squarespace.com
DTSTAMP:20210531T111059Z
DTSTART:20210602T150000Z
DTEND:20210604T190000Z
SUMMARY:Youth Co:lab Virtual Summit
END:VEVENT
END:VCALENDAR
