BEGIN:VCALENDAR
VERSION:2.0
PRODID:-//Squarespace Inc/Squarespace 6//v6//EN
BEGIN:VEVENT
UID:5fabad80d1ffba38d8089982@squarespace.com
DTSTAMP:20201111T092807Z
DTSTART:20201118T150000Z
DTEND:20201118T170000Z
SUMMARY:Youth 4 Climate Live Series
GEO:40.720756;-74.000761
LOCATION:Online
END:VEVENT
END:VCALENDAR
