BEGIN:VCALENDAR
VERSION:2.0
PRODID:-//Squarespace Inc/Squarespace 6//v6//EN
BEGIN:VEVENT
UID:6177385e07378d02feeadb97@squarespace.com
DTSTAMP:20211025T231635Z
DTSTART:20211030T230000Z
DTEND:20211031T010000Z
SUMMARY:Halloween Parade
END:VEVENT
END:VCALENDAR
