BEGIN:VCALENDAR
VERSION:2.0
PRODID:-//Squarespace Inc/Squarespace 6//v6//EN
BEGIN:VEVENT
UID:603cc86d785a1a1f89eb7cff@squarespace.com
DTSTAMP:20210301T110242Z
DTSTART:20210301T140000Z
DTEND:20210301T152500Z
SUMMARY:Yemen High-Level Pledging Event 
END:VEVENT
END:VCALENDAR
