BEGIN:VCALENDAR
VERSION:2.0
PRODID:-//Squarespace Inc/Squarespace 6//v6//EN
BEGIN:VEVENT
UID:617fcfb3eb5b664e598f1f93@squarespace.com
DTSTAMP:20211101T120908Z
DTSTART:20211101T170000Z
DTEND:20211112T230000Z
SUMMARY:COP26 Green Zone Events
END:VEVENT
END:VCALENDAR
