BEGIN:VCALENDAR
VERSION:2.0
PRODID:-//Squarespace Inc/Squarespace 6//v6//EN
BEGIN:VEVENT
UID:615b55837568fd00638d582a@squarespace.com
DTSTAMP:20211004T193147Z
DTSTART:20211005T133000Z
DTEND:20211005T150000Z
SUMMARY:World Teachers’ Day Roundtable: Supporting Teachers to Accelerate L
 earning Recovery
END:VEVENT
END:VCALENDAR
