BEGIN:VCALENDAR
VERSION:2.0
PRODID:-//Squarespace Inc/Squarespace 6//v6//EN
BEGIN:VEVENT
UID:5f7785abae32bb7d3fda2baa@squarespace.com
DTSTAMP:20201002T203426Z
DTSTART:20201010T140000Z
DTEND:20201010T170000Z
SUMMARY:World Mental Health Day 
END:VEVENT
END:VCALENDAR
