BEGIN:VCALENDAR
VERSION:2.0
PRODID:-//Squarespace Inc/Squarespace 6//v6//EN
BEGIN:VEVENT
UID:60868dba3341d07838dbc8b9@squarespace.com
DTSTAMP:20210426T100526Z
DTSTART:20210428T133000Z
DTEND:20210428T150000Z
SUMMARY:World Immunization Week Webinar
END:VEVENT
END:VCALENDAR
