BEGIN:VCALENDAR
VERSION:2.0
PRODID:-//Squarespace Inc/Squarespace 6//v6//EN
BEGIN:VEVENT
UID:608c468421ef8e43d0b711d1@squarespace.com
DTSTAMP:20210430T184143Z
DTSTART:20210609T110000Z
DTEND:20210610T194500Z
SUMMARY:World Bank Youth Summit
END:VEVENT
END:VCALENDAR
