BEGIN:VCALENDAR
VERSION:2.0
PRODID:-//Squarespace Inc/Squarespace 6//v6//EN
BEGIN:VEVENT
UID:6086da0f2f16d85113b5336c@squarespace.com
DTSTAMP:20210426T152604Z
DTSTART:20210428T130000Z
DTEND:20210428T150000Z
SUMMARY:World Bank Insolvency Series
END:VEVENT
END:VCALENDAR
