BEGIN:VCALENDAR
VERSION:2.0
PRODID:-//Squarespace Inc/Squarespace 6//v6//EN
BEGIN:VEVENT
UID:606adf530f29f30bfcc5d76d@squarespace.com
DTSTAMP:20210405T100811Z
DTSTART:20210406T170000Z
DTEND:20210406T190000Z
SUMMARY:World Bank #InclusiveFuture Webinar
END:VEVENT
END:VCALENDAR
