BEGIN:VCALENDAR
VERSION:2.0
PRODID:-//Squarespace Inc/Squarespace 6//v6//EN
BEGIN:VEVENT
UID:600aa928fae731185ae4d5f5@squarespace.com
DTSTAMP:20210122T103258Z
DTSTART:20210125T150000Z
DTEND:20210125T160500Z
SUMMARY:Women Leading The Way For Change
END:VEVENT
END:VCALENDAR
