BEGIN:VCALENDAR
VERSION:2.0
PRODID:-//Squarespace Inc/Squarespace 6//v6//EN
BEGIN:VEVENT
UID:6238efe49500ec5d8a63ec26@squarespace.com
DTSTAMP:20220321T214251Z
DTSTART:20220324T120000Z
DTEND:20220324T130000Z
SUMMARY:Women at the Center of Sustainable and Resilient Food System
END:VEVENT
END:VCALENDAR
