BEGIN:VCALENDAR
VERSION:2.0
PRODID:-//Squarespace Inc/Squarespace 6//v6//EN
BEGIN:VEVENT
UID:600e7d5759f43d099e4dd1d6@squarespace.com
DTSTAMP:20210125T081501Z
DTSTART:20210128T150000Z
DTEND:20210128T161500Z
SUMMARY:Women are missing from our coverage\, so how do we fix it?
END:VEVENT
END:VCALENDAR
