BEGIN:VCALENDAR
VERSION:2.0
PRODID:-//Squarespace Inc/Squarespace 6//v6//EN
BEGIN:VEVENT
UID:602a2880c6bed064bd47375e@squarespace.com
DTSTAMP:20210215T075748Z
DTSTART:20210216T140000Z
DTEND:20210216T150500Z
SUMMARY:With Us and For Us
END:VEVENT
END:VCALENDAR
