BEGIN:VCALENDAR
VERSION:2.0
PRODID:-//Squarespace Inc/Squarespace 6//v6//EN
BEGIN:VEVENT
UID:5ffe0a1ff4b32a12f9e443e4@squarespace.com
DTSTAMP:20210112T205035Z
DTSTART:20210125T150000Z
DTEND:20210125T164500Z
SUMMARY:Virtual Launch of Lancet Series
END:VEVENT
END:VCALENDAR
