BEGIN:VCALENDAR
VERSION:2.0
PRODID:-//Squarespace Inc/Squarespace 6//v6//EN
BEGIN:VEVENT
UID:601eb3497028a91d4f180e2f@squarespace.com
DTSTAMP:20210206T152723Z
DTSTART:20210212T163000Z
DTEND:20210212T171500Z
SUMMARY:Virtual Coffee Chat With Changemakers
END:VEVENT
END:VCALENDAR
