BEGIN:VCALENDAR
VERSION:2.0
PRODID:-//Squarespace Inc/Squarespace 6//v6//EN
BEGIN:VEVENT
UID:60a26033a3ed9756b3b3afec@squarespace.com
DTSTAMP:20210517T122718Z
DTSTART:20210517T160000Z
DTEND:20210519T180000Z
SUMMARY:UNESCO World Conference on Education for Sustainable Development
END:VEVENT
END:VCALENDAR
