BEGIN:VCALENDAR
VERSION:2.0
PRODID:-//Squarespace Inc/Squarespace 6//v6//EN
BEGIN:VEVENT
UID:603384dfccc1ba1386a27542@squarespace.com
DTSTAMP:20210222T103422Z
DTSTART:20210301T110000Z
DTEND:20210301T150000Z
SUMMARY:UNESCO Conference on Safety of Journalists
END:VEVENT
END:VCALENDAR
