BEGIN:VCALENDAR
VERSION:2.0
PRODID:-//Squarespace Inc/Squarespace 6//v6//EN
BEGIN:VEVENT
UID:60e9efcf8915684aa545147f@squarespace.com
DTSTAMP:20210710T191424Z
DTSTART:20210713T113000Z
DTEND:20210713T130000Z
SUMMARY:An Unequal Pandemic
END:VEVENT
END:VCALENDAR
