BEGIN:VCALENDAR
VERSION:2.0
PRODID:-//Squarespace Inc/Squarespace 6//v6//EN
BEGIN:VEVENT
UID:5ffeb60a9b3fea32da6df509@squarespace.com
DTSTAMP:20210113T090416Z
DTSTART:20210603T120000Z
DTEND:20210603T140000Z
SUMMARY:UNDP Virtual Pitch
END:VEVENT
END:VCALENDAR
