BEGIN:VCALENDAR
VERSION:2.0
PRODID:-//Squarespace Inc/Squarespace 6//v6//EN
BEGIN:VEVENT
UID:5fc7a4b43ac9c763f4de204d@squarespace.com
DTSTAMP:20201202T143313Z
DTSTART:20201207T100000Z
DTEND:20201207T110000Z
SUMMARY:UN Habitat and ITU Webinar
END:VEVENT
END:VCALENDAR
