BEGIN:VCALENDAR
VERSION:2.0
PRODID:-//Squarespace Inc/Squarespace 6//v6//EN
BEGIN:VEVENT
UID:606af4b047bc556d40594a38@squarespace.com
DTSTAMP:20210405T122052Z
DTSTART:20210615T140000Z
DTEND:20210617T030000Z
SUMMARY:UN Global Compact Leaders Summit
END:VEVENT
END:VCALENDAR
