BEGIN:VCALENDAR
VERSION:2.0
PRODID:-//Squarespace Inc/Squarespace 6//v6//EN
BEGIN:VEVENT
UID:5fcff31b89430d0599cb6870@squarespace.com
DTSTAMP:20201208T214719Z
DTSTART:20201210T120000Z
DTEND:20201210T140000Z
SUMMARY:UN Food Systems Summit
END:VEVENT
END:VCALENDAR
