BEGIN:VCALENDAR
VERSION:2.0
PRODID:-//Squarespace Inc/Squarespace 6//v6//EN
BEGIN:VEVENT
UID:608c3041b8ec9d6bf8c1b9a3@squarespace.com
DTSTAMP:20210430T171814Z
DTSTART:20210505T150000Z
DTEND:20210505T163000Z
SUMMARY:UN DESA Webinar
END:VEVENT
END:VCALENDAR
