BEGIN:VCALENDAR
VERSION:2.0
PRODID:-//Squarespace Inc/Squarespace 6//v6//EN
BEGIN:VEVENT
UID:5fc78b5c5060c93fcd811796@squarespace.com
DTSTAMP:20201202T124446Z
DTSTART:20201207T180000Z
DTEND:20201207T190000Z
SUMMARY:Trust in Science\, Trust in Democracy
END:VEVENT
END:VCALENDAR
