BEGIN:VCALENDAR
VERSION:2.0
PRODID:-//Squarespace Inc/Squarespace 6//v6//EN
BEGIN:VEVENT
UID:619285894baf9e4d3600b033@squarespace.com
DTSTAMP:20211115T161214Z
DTSTART:20211118T130000Z
DTEND:20211118T173000Z
SUMMARY:Transforming Food Systems & Combating Climate Change
END:VEVENT
END:VCALENDAR
