BEGIN:VCALENDAR
VERSION:2.0
PRODID:-//Squarespace Inc/Squarespace 6//v6//EN
BEGIN:VEVENT
UID:5fc7a6b4a3696915e22c3f3c@squarespace.com
DTSTAMP:20201202T144222Z
DTSTART:20201203T181500Z
DTEND:20201203T191500Z
SUMMARY:Towards Meaningful Inclusion
END:VEVENT
END:VCALENDAR
