BEGIN:VCALENDAR
VERSION:2.0
PRODID:-//Squarespace Inc/Squarespace 6//v6//EN
BEGIN:VEVENT
UID:60191cd9a44f057bf6a3ceec@squarespace.com
DTSTAMP:20210202T094134Z
DTSTART:20210204T140000Z
DTEND:20210204T153000Z
SUMMARY:Time to Act: The Circular Economy Action Agenda
END:VEVENT
END:VCALENDAR
