BEGIN:VCALENDAR
VERSION:2.0
PRODID:-//Squarespace Inc/Squarespace 6//v6//EN
BEGIN:VEVENT
UID:602bfbd5157b8c4fb579d2af@squarespace.com
DTSTAMP:20210216T171929Z
DTSTART:20210221T200000Z
DTEND:20210221T210000Z
SUMMARY:This Is Our Shot
END:VEVENT
END:VCALENDAR
