BEGIN:VCALENDAR
VERSION:2.0
PRODID:-//Squarespace Inc/Squarespace 6//v6//EN
BEGIN:VEVENT
UID:61896e8190b4d32c557a3e76@squarespace.com
DTSTAMP:20211108T184155Z
DTSTART:20211111T150000Z
DTEND:20211111T163000Z
SUMMARY:The Intersection of Gender and Climate
END:VEVENT
END:VCALENDAR
