BEGIN:VCALENDAR
VERSION:2.0
PRODID:-//Squarespace Inc/Squarespace 6//v6//EN
BEGIN:VEVENT
UID:602bf979642c4f320c91e64e@squarespace.com
DTSTAMP:20210216T170431Z
DTSTART:20210218T140000Z
DTEND:20210218T150000Z
SUMMARY:The Futures of Indigenous Education and Knowledge
END:VEVENT
END:VCALENDAR
