BEGIN:VCALENDAR
VERSION:2.0
PRODID:-//Squarespace Inc/Squarespace 6//v6//EN
BEGIN:VEVENT
UID:60d104beecbe3a6ba679b0b4@squarespace.com
DTSTAMP:20210621T213611Z
DTSTART:20210623T130000Z
DTEND:20210623T140000Z
SUMMARY:The Futures of Education Youth Webinar
END:VEVENT
END:VCALENDAR
