BEGIN:VCALENDAR
VERSION:2.0
PRODID:-//Squarespace Inc/Squarespace 6//v6//EN
BEGIN:VEVENT
UID:5fc4a675fa04221c71b346d9@squarespace.com
DTSTAMP:20201130T080331Z
DTSTART:20201210T210000Z
DTEND:20201210T220000Z
SUMMARY:The Artistic Approach To Advancing Human Rights
END:VEVENT
END:VCALENDAR
