BEGIN:VCALENDAR
VERSION:2.0
PRODID:-//Squarespace Inc/Squarespace 6//v6//EN
BEGIN:VEVENT
UID:601805d4278a9f17dc6ae1a3@squarespace.com
DTSTAMP:20210201T135045Z
DTSTART:20210316T130000Z
DTEND:20210317T010000Z
SUMMARY:Target Gender Equality Live
END:VEVENT
END:VCALENDAR
