BEGIN:VCALENDAR
VERSION:2.0
PRODID:-//Squarespace Inc/Squarespace 6//v6//EN
BEGIN:VEVENT
UID:5fabb2aaebccd02ae28c1cfc@squarespace.com
DTSTAMP:20201111T095048Z
DTSTART:20201112T151500Z
DTEND:20201112T161500Z
SUMMARY:Sustainable Development in the Mediterranean 
GEO:40.720756;-74.000761
LOCATION:Online
END:VEVENT
END:VCALENDAR
