BEGIN:VCALENDAR
VERSION:2.0
PRODID:-//Squarespace Inc/Squarespace 6//v6//EN
BEGIN:VEVENT
UID:5fc4a96808845d09241dc7af@squarespace.com
DTSTAMP:20201130T081501Z
DTSTART:20201202T134500Z
DTEND:20201202T144500Z
SUMMARY:State of the Planet
END:VEVENT
END:VCALENDAR
