BEGIN:VCALENDAR
VERSION:2.0
PRODID:-//Squarespace Inc/Squarespace 6//v6//EN
BEGIN:VEVENT
UID:6135b4b7833e8f712a5c1521@squarespace.com
DTSTAMP:20210906T063125Z
DTSTART:20210910T100000Z
DTEND:20210911T130000Z
SUMMARY:Social Good Summit Lagos
END:VEVENT
END:VCALENDAR
