BEGIN:VCALENDAR
VERSION:2.0
PRODID:-//Squarespace Inc/Squarespace 6//v6//EN
BEGIN:VEVENT
UID:60c61ff0b49a1c21bd3a8f5a@squarespace.com
DTSTAMP:20210613T151859Z
DTSTART:20210614T140000Z
DTEND:20210614T150000Z
SUMMARY:SDSN Youth Virtual Event
END:VEVENT
END:VCALENDAR
