BEGIN:VCALENDAR
VERSION:2.0
PRODID:-//Squarespace Inc/Squarespace 6//v6//EN
BEGIN:VEVENT
UID:605889e1ed1e0809c1d825aa@squarespace.com
DTSTAMP:20210322T150523Z
DTSTART:20210325T140000Z
DTEND:20210327T010000Z
SUMMARY:SDG Global Festival of Action
END:VEVENT
END:VCALENDAR
