BEGIN:VCALENDAR
VERSION:2.0
PRODID:-//Squarespace Inc/Squarespace 6//v6//EN
BEGIN:VEVENT
UID:60586e2a8479842a9f243139@squarespace.com
DTSTAMP:20210322T101902Z
DTSTART:20210323T180000Z
DTEND:20210323T191500Z
SUMMARY:SCI Global Conversations
END:VEVENT
END:VCALENDAR
