BEGIN:VCALENDAR
VERSION:2.0
PRODID:-//Squarespace Inc/Squarespace 6//v6//EN
BEGIN:VEVENT
UID:617fcd1f1308ec7dc43f3890@squarespace.com
DTSTAMP:20211101T112244Z
DTSTART:20211103T160000Z
DTEND:20211103T170500Z
SUMMARY:Say It With Science
END:VEVENT
END:VCALENDAR
