BEGIN:VCALENDAR
VERSION:2.0
PRODID:-//Squarespace Inc/Squarespace 6//v6//EN
BEGIN:VEVENT
UID:600aba82aac80443d2d6fe45@squarespace.com
DTSTAMP:20210122T114801Z
DTSTART:20210122T140000Z
DTEND:20210122T152000Z
SUMMARY:Roundtable: Young Women Leading Tech & Innovations
END:VEVENT
END:VCALENDAR
